Workbook

Sheet Specimen input form
A1: EBP-Nor project offline input-form for target-list sampling. See Info sheet for detailed descriptions.
B3: Field Name | E3: Isolate 1 | G3: Isolate 2 | I3: Isolate 3
B5: Regulatory compliance
B6: Scientific name
B8: Collector(s)
B9: Isolate name
B10: Sampling status
B11: Environment material
B12: Environment sample name
B14: Sampling date
B15: Time of day
B16: Depth (optional)
B17: Altitude (optional)
B18: Sampling coordinates
... B50: Size of sample

Sheet Info
A1: Information
A2: ! THIS IS ONLY A SUBSET OF THE EBP-Nor ATTRIBUTES MEANT FOR REMOTE SAMPLING THE COMPLETE MANIFEST CAN BE FOUND AT THE EBP NOR DATABASE PAGE - Environmental sample: Is relevant if a solid, semi-solid, or liquid sample is collected in a container with the species isolate. - Isolate: Is defined as a single individual (or clonal culture) of the target species which has been collected. The isolate must always be given an identifier (even if the main organism body is discarded) so to separate it from other isolates of the same species. See isolate name description below for naming. - Specimen: Is the tissue/organ related to the sampled isolate. ! This (or the tube/container holding it) needs to be given an unique name. See Specimen name. - Hierarchical relation is: Species > Isolate > Specimen. Note that the isolate can be within an environmental sample and has attributes for describing this. There can be several isolates from the same species and there can be multiple specimens from each isolate. This sheet support 3 isolates of any species (preferably listed species) and up to 5 specimen from each isolate. Green fields are drop-down selections. Yellow attribute fields represent specimens and are meant for the EBP-Nor specimen database. Filling these will populate fields of the sheet "TSV for Specimen db" and enable the upload/creation of specimen records. Attribute categories (short names): adm:Sample administration, tax:Taxonomy, sam:Sampling event, pbb:Preservation, biobanking and barcoding. A field should not be empty, unles it is marked optional. Instead use either of the 3 options below. Not applicable: information is inappropriate to report. This can also indicate that the standard itself fails to model or represent the information appropriately. Not collected: information of an expected format was not given because it has not been collected. Not provided: information of an expected format cannot be given upon initial manifest submission but a value may be given at a later stage.
A4: Short-name | B4: Field Name | C4: Field name and description
A5: Target species information
A6: adm:complience | B6: Regulatory compliance | C6: Per-species check that ensures that necessary regulatory compliance documents have been obtained by the sample coordinator.
A7: tax:sci_name | B7: Scientific name | C7: The Latin binomial/combined genus and species name. May including subspecies. Enter manually if not in list.
A9: sam:coll_by | B9: Collector(s) | C9: The person(s) responsible for collecting the sample.
A10: sam:isolate | B10: Isolate name | C10: Unique identifier for the sampled isolate of the species. EBPN_[sampler initials]_[ORCID last four digits]_[running numbers]: E.g., EBPN_AB_0123_01.
A11: sam:status | B11: Sampling status | C11: Sampling status of target isolate.
A12: sam:material | B12: Environment material | C12: If the sample is environmental this is the material type collected (e.g. soil, sea water, sediment). Support use of ENVO ontology terms. Material not listed can be typed manually. Leave blank if no material is collected.
A13: sam:env_sample | B13: Environment sample name | C13: This can be used as an additional sample identifier for environmental sample materials contained in separate vessels (sediment, water etc.) or in-house notation. Otherwise same name as sam:isolate.
A15: sam:date | B15: Sampling date | C15: Format in ISO8601 (YYYY-MM-DD)
A16: sam:time | B16: Time of day | C16: Local time of day in 24-hour clock format, with hours and minutes separated by colon e.g., 13:35, for when the sampling took place.
A17: sam:depth | B17: Depth | C17: Below water body surface or earth surface in sediment or soil. Supplied in meters, can be approximate value. Avoid using ranges.
A18: sam:elevation | B18: Altitude | C18: Relative to sea level, supplied in meters. Negative if below sea level, e.g. for benthic ocean/sea floor samples.
A19: sam:coord | B19: Sampling coordinates | C19: Format in decimal degrees; -90 ≤ x ≤ 90,-180 ≤ x ≤ 180. Use 3 or more decimal places for accurate placement.
... A35: pbb:part_size | B35: Size of sample | C35: Size of sample in tube/container sent for sequencing.

Sheet Target list
A1: tax:sci_name | B1: tax:id | C1: tax:com_eng | D1: tax:com_nor | E1: id
A2: Alces alces | B2: 9852 | C2: Eurasian elk | D2: Elg|Europeisk elg | E2: ebpnor.species:000000130
A3: Caligus elongatus | B3: 257370 | C3: Sea louce | D3: Skottelus | E3: ebpnor.species:000000129
A4: Conium maculatum | B4: 13447 | C4: Poison hemlock|Wild hemlock | D4: Giftkjeks | E4: ebpnor.species:000000128
A5: Usnea longissima | B5: 143883 | C5: Old man's beard|Methuselah's beard lichen | D5: Huldrestry | E5: ebpnor.species:000000127
A6: Fomitopsis pinicola | B6: 40483 | C6: Brown crumbly rot | D6: Rødrandkjuke | E6: ebpnor.species:000000126
A7: Petromyzon marinus | B7: 7757 | C7: Sea lamprey|Vampire fish | D7: Havniøye | E7: ebpnor.species:000000125
A8: Tolypella | B8: 37933 | C8: Green algae | D8: Nordlandsglattkrans | E8: ebpnor.species:000000124
A9: Sphagnum troendelagicum | B9: 128251 | C9: Moss | D9: Trøndertorvmose | E9: ebpnor.species:000000123
A10: Somateria mollissima | B10: 76058 | C10: Common eider|Cuddy's duck|St. Cuthbert's duck | D10: Ærfugl | E10: ebpnor.species:000000122
A11: Phaeoceros carolinianus | B11: 185665 | C11: Yellow-spored hornworts | D11: Gulnål | E11: ebpnor.species:000000121
A12: Calluna vulgaris | B12: 13385 | C12: Heather flower|Ling | D12: Røsslyng | E12: ebpnor.species:000000120
A13: Lampetra planeri | B13: 7750 | C13: European brook lamprey | D13: Bekkeniøye | E13: ebpnor.species:000000119
... A23: Lophius piscatorius | B23: 8074 | C23: Angler|European angler|Common monkfish | D23: Breiflabb | E23: ebpnor.species:000000109
A24: Saccharina latissima | C24: Sugar kelp|Sea belt|Devil's apron | D24: Sukkertare | E24: ebpnor.species:000000108
A25: Caligus elongatus | B25: 257370 | C25: Sea louse | D25: Skottelus | E25: ebpnor.species:000000107
A26: Haliaeetus albicilla | B26: 8969 | C26: White-tailed eagle|Gray sea eagle|Eurasian sea eagle | D26: Havørn | E26: ebpnor.species:000000106
A27: Strongylocentrotus droebachiensis | B27: 7671 | C27: Sea urchin | D27: Drøbaksjøpiggsvin | E27: ebpnor.species:000000105
A28: Sphagnum annulatum | B28: 231083 | C28: Peatmoss | D28: Pisktorvmose | E28: ebpnor.species:000000104
A29: Phoca vitulina | B29: 9720 | C29: Harbour seal|Common seal | D29: Steinkobbe | E29: ebpnor.species:000000103
A30: Cuphophyllus canescens | B30: 889777 | C30: Agaric fungus | D30: Tinnvokssopp | E30: ebpnor.species:000000102
A31: Prunus padus | B31: 97307 | C31: Bird cherry|Hagberry|Hackberry|Mayday tree | D31: Hegg | E31: ebpnor.species:000000101
A32: Elaphostrongylus rangiferi | B32: 192631 | C32: Brainworm | D32: Hjernemark | E32: ebpnor.species:000000100
A33: Benthosema glaciale | B33: 125796 | C33: Lanternfish|Glacier lantern fish | D33: Nordlig lysprikkfisk | E33: ebpnor.species:000000099
A34: Cardamine bellidifolia | B34: 109591 | C34: Alpine bittercress|Alpine cress | D34: Høyfjellskarse | E34: ebpnor.species:000000098
A35: Saxifraga cotyledon | B35: 102720 | C35: Pyramidal saxifrage | D35: Bergfrue | E35: ebpnor.species:000000097
A36: Diamesa serratosioi | B36: 2578515 | C36: Feather mosquito|Lake fly | D36: Fjærmygg | E36: ebpnor.species:000000096
... A131: Myxine glutinosa | B131: 7769 | C131: Hagfish | D131: Slimål | E131: ebpnor.species:000000001

Sheet Definitions
A1: sam:status | C1: ENVO material | D1: ENVO material | F1: Sample size | G1: ORGANISM PART | H1: Strict Yes or No field | I1: Sex | J1: Lifestage | L1: Habitat, env feature
A2: Not collected | C2: Aerosol | F2: Large | G2: Abdomen | H2: Yes | I2: Female | J2: Adult | L2: Agricultural field
A3: Collected | C3: Alluvium | F3: Medium | G3: Anterior body | H3: No | I3: Male | J3: Egg | L3: Algal bloom
C4: Animal litter | F4: Small | G4: Blade | I4: Hermaphrodite monoecious | J4: Embryo | L4: Alluvial fan
C5: Animal manure | F5: Very small | G5: Blood | I5: Asexual morph | J5: Gametophyte | L5: Archipelago
C6: Anthropogenic environmental material | F6: Not applicable | G6: Bodywall | I6: Sexual morph | J6: Juvenile | L6: Area designated for human defecation
C7: Biofilm material | D7: ENVO:01001002 | F7: Not provided | G7: Bract | I7: Not collected | J7: Larva | L7: Area designated for waste storage
C8: Bituminous sand | G8: Brain | I8: Not applicable | J8: Pupa | L8: Area of alpine tundra
C9: Brackish water | D9: ENVO:00002019 | G9: Bud | I9: Not provided | J9: Spore bearing structure | L9: Area of attached mussel assemblages
C10: Clay | D10: ENVO:00002982 | G10: Cap | J10: Sporophyte | L10: Area of cropland
C11: Colloidal suspension | G11: Cephalothorax | J11: Vegetative cell | L11: Area of dwarf scrub
C12: Emissions from petroleum combustion | G12: Egg | J12: Vegetative structure | L12: Area of emergent herbaceous wetland
C13: Emulsion | G13: Eggshell | J13: Zygote | L13: Area of evergreen forest
C14: Estuarine mud | D14: ENVO:00002160 | G14: Endocrine tissue | J14: Not applicable | L14: Area of gramanoid or herbaceous vegetation
C15: Estuarine water | D15: ENVO:01000301 | G15: Eye | J15: Not collected | L15: Area of lichen-dominated vegetation
C16: Fluid environmental material | G16: Fat body | J16: Not provided | L16: Area of mixed forest
C17: Foamy environmental material | G17: Fin | L17: Area of moss-dominated vegetation
C18: Frost | G18: Flower | L18: Area of open water
C19: Gaseous environmental material | G19: Gill animal | L19: Area of pastureland or hayfields
C20: Gravel | G20: Gill fungi | L20: Area of perennial ice or snow
C21: Heavy fraction material | G21: Gonad | L21: Area of perennial snow
C22: Hydrocarbon-based environmental material | G22: Hair | L22: Area of perennial water ice
C23: Ice | G23: Head | L23: Area of polar tundra
C24: Lava | G24: Heart | L24: Area of rocky shore
C25: Light fraction material | G25: Hepatopancreas | L25: Area of scrub
C26: Liquid environmental material | G26: Holdfast fungi | L26: Area of sedge- and forb-dominated herbaceous vegetation
C27: Magma | G27: Intestine | L27: Area of tundra
C28: Marl | G28: Kidney | L28: Area of woody wetland
... C31: Mineral material | G31: Liver | L31: Bar
C32: Mud | D32: ENVO:01000001 | G32: Lung | L32: Bay
C33: Muddy water | D33: ENVO:00005793 | G33: Mid body | L33: Blowhole
C34: Nesting material | G34: Modular colony | L34: Bush area
C35: Organic material | G35: Mollusc foot | L35: Chaparral area
C36: Particulate matter | G36: Multicellular organisms in culture | L36: Circalittoral zone
C37: Permafrost | G37: Muscle | L37: Coast
C38: Plastic | G38: Mycelium | L38: Coastal scrubland
C39: Plastic production compound | G39: Mycorrhiza | L39: Confluence
C40: Quicksand | G40: Ovary animal | L40: Crater zone
C41: Radioactive material | G41: Oviduct | L41: Desert scrubland
C42: Refractory astrogeological material | G42: Pancreas | L42: Diurnal marine tidal flow zone
C43: Resin | G43: Petiole | L43: Environmental zone of processual equilibrium
C44: Sand | D44: ENVO:01000017 | G44: Posterior body | L44: Flood fringe
C45: Scree | G45: Scales | L45: Flower strip
C46: Scum | G46: Scat | L46: Flower-rich field margin strip
C47: Sea water | D47: ENVO:00002149 | G47: Seed | L47: Forested area
C48: Sediment | D48: ENVO:00002007 | G48: Seedling | L48: Geothermally active field
C49: Shellac | G49: Shoot | L49: Grassland area
C50: Silt | G50: Skin | L50: Gravel field
C51: Slurry | G51: Sperm seminal fluid | L51: Harbor
C52: Slush ice | G52: Spleen | L52: Heath
C53: Snow | D53: ENVO:01000406 | G53: Spore | L53: High tide zone
C54: Soil | D54: ENVO:00001998 | G54: Spore bearing structure | L54: Hill range
C55: Solid environmental material | G55: Stem | L55: Hill sphere
C56: Tephra | G56: Stipe | L56: Hydrothermal field
C57: Thermoplastic material | G57: Stomach | L57: Ice field
C58: Time crystal | G58: Tentacle | L58: Infralittoral zone
C59: Tragacanth | G59: Terminal body | L59: Inlet
C60: Volatile astrogeological material | G60: Testis | L60: Intertidal zone
C61: Volume of cyanoacrylate | G61: Thallus fungi | L61: Iron-reducing zone of petroleum contaminated sediment
C62: Waste material | G62: Thallus plant | L62: Lagrangian point
C63: Wax | G63: Thorax | L63: Lake coast
C64: Xanthan gum | G64: Unicellular organisms in culture | L64: Lava field
G65: Whole organism | L65: Levee
G66: Whole plant | L66: Low tide zone
G67: Not applicable | L67: Marine anoxic zone
G68: Not provided | L68: Marine benthic feature
L69: Marine eulittoral zone
L70: Marine mesoscale eddy field
L71: Marine pelagic feature
L72: Marine reef
L73: Marine sub-littoral zone
L74: Marine supra-littoral zone
L75: Marine tidal flow zone
L76: Material accumulation zone
L77: Material decumulation zone
L78: Meander
L79: Mountain range
L80: Oasis
... L102: Woodland clearing

Sheet TSV for Species DB
A1: This information for these attributes can be uploaded to the EBP-Nor Species database using the Add data>Upload TSV>Update existing. Then click Upload (update). Export the attributes as tab separated values (TSV). Include line 2 to 5 and collumn A to D.
A2: id | B2: =Info!A7 -> tax:sci_name | C2: =Info!A6 -> adm:complience | D2: =Info!A31 -> sam:other_info
A3: =VLOOKUP($B3,'Target list'!$A$2:$E$131,5,0) -> #N/A | B3: ='Specimen input form'!E6 -> 0 | C3: ='Specimen input form'!E5 -> 0 | D3: ='Specimen input form'!E30 -> 0
A4: =VLOOKUP($B4,'Target list'!$A$2:$E$131,5,0) -> #N/A | B4: ='Specimen input form'!G6 -> 0 | C4: ='Specimen input form'!G5 -> 0 | D4: ='Specimen input form'!G30 -> 0
A5: =VLOOKUP($B5,'Target list'!$A$2:$E$131,5,0) -> #N/A | B5: ='Specimen input form'!I6 -> 0 | C5: ='Specimen input form'!I5 -> 0 | D5: ='Specimen input form'!I30 -> 0

Sheet TSV for Isolate db
A1: The information for these attributes can be uploaded to the EBP-Nor Isolate database (https://ebp-nor.sfb.uit.no/isolates/) using the Add data > Upload TSV > Create/Overwrite. Then click "Upload (create)". Export the attributes as tab separated values (TSV). Include line 2 to 5 and collumn A to T.
A2: =Info!A7 -> tax:sci_name | B2: =Info!A9 -> sam:coll_by | C2: =Info!A10 -> sam:isolate | D2: =Info!A11 -> sam:status | E2: =Info!A12 -> sam:material | F2: =Info!A13 -> sam:env_sample | G2: =Info!A15 -> sam:date | H2: =Info!A16 -> sam:time | I2: =Info!A17 -> sam:depth | J2: =Info!A18 -> sam:elevation | K2: =Info!A19 -> sam:coord | L2: =Info!A20 -> sam:habitat | M2: =Info!A21 -> sam:location | N2: =Info!A22 -> sam:method | O2: =Info!A24 -> sam:lifestage | P2: =Info!A25 -> sam:sex | Q2: =Info!A26 -> sam:relation | R2: =Info!A28 -> host:symbiont | S2: =Info!A29 -> sam:mixed_risk | T2: dblink:species
A3: ='Specimen input form'!E6 -> 0 | B3: ='Specimen input form'!E8 -> 0 | C3: ='Specimen input form'!E9 -> 0 | D3: ='Specimen input form'!E10 -> 0 | E3: ='Specimen input form'!E11 -> 0 | F3: ='Specimen input form'!E12 -> 0 | G3: ='Specimen input form'!E14 -> 0 | H3: ='Specimen input form'!E15 -> 0 | I3: ='Specimen input form'!E16 -> 0 | J3: ='Specimen input form'!E17 -> 0 | K3: ='Specimen input form'!E18 -> 0 | L3: ='Specimen input form'!E19 -> 0 | M3: ='Specimen input form'!E20 -> 0 | N3: ='Specimen input form'!E21 -> 0 | O3: ='Specimen input form'!E23 -> 0 | P3: ='Specimen input form'!E24 -> 0 | Q3: ='Specimen input form'!E25 -> 0 | R3: ='Specimen input form'!E27 -> 0 | S3: ='Specimen input form'!E28 -> 0 | T3: =VLOOKUP($A3,'Target list'!$A$2:$E$131,5,0) -> #N/A
A4: ='Specimen input form'!G6 -> 0 | B4: ='Specimen input form'!G8 -> 0 | C4: ='Specimen input form'!G9 -> 0 | D4: ='Specimen input form'!G10 -> 0 | E4: ='Specimen input form'!G11 -> 0 | F4: ='Specimen input form'!G12 -> 0 | G4: ='Specimen input form'!G14 -> 0 | H4: ='Specimen input form'!G15 -> 0 | I4: ='Specimen input form'!G16 -> 0 | J4: ='Specimen input form'!G17 -> 0 | K4: ='Specimen input form'!G18 -> 0 | L4: ='Specimen input form'!G19 -> 0 | M4: ='Specimen input form'!G20 -> 0 | N4: ='Specimen input form'!G21 -> 0 | O4: ='Specimen input form'!G23 -> 0 | P4: ='Specimen input form'!G24 -> 0 | Q4: ='Specimen input form'!G25 -> 0 | R4: ='Specimen input form'!G27 -> 0 | S4: ='Specimen input form'!G28 -> 0 | T4: =VLOOKUP($A4,'Target list'!$A$2:$E$131,5,0) -> #N/A
A5: ='Specimen input form'!I6 -> 0 | B5: ='Specimen input form'!I8 -> 0 | C5: ='Specimen input form'!I9 -> 0 | D5: ='Specimen input form'!I10 -> 0 | E5: ='Specimen input form'!I11 -> 0 | F5: ='Specimen input form'!I12 -> 0 | G5: ='Specimen input form'!I14 -> 0 | H5: ='Specimen input form'!I15 -> 0 | I5: ='Specimen input form'!I16 -> 0 | J5: ='Specimen input form'!I17 -> 0 | K5: ='Specimen input form'!I18 -> 0 | L5: ='Specimen input form'!I19 -> 0 | M5: ='Specimen input form'!I20 -> 0 | N5: ='Specimen input form'!I21 -> 0 | O5: ='Specimen input form'!I23 -> 0 | P5: ='Specimen input form'!I24 -> 0 | Q5: ='Specimen input form'!I25 -> 0 | R5: ='Specimen input form'!I27 -> 0 | S5: ='Specimen input form'!I28 -> 0 | T5: =VLOOKUP($A5,'Target list'!$A$2:$E$131,5,0) -> #N/A

Sheet TSV for Specimen db
A1: The information for these attributes can be uploaded to the EBP-Nor Specimens database (https://ebp-nor.sfb.uit.no/specimens/) using the Add data > Upload TSV > Create/Overwrite. Then click "Upload (create)". First you need to export the attributes as tab separated values (TSV). Include line 2 to 17 and collumn C to H. ! Delete lines without data, e.g. containing '0'.
C2: =Info!$A$7 -> tax:sci_name | D2: dblink:species | E2: =Info!A10 -> sam:isolate | F2: =Info!A33 -> pbb:sam_name | G2: =Info!A34 -> pbb:pre_tissue | H2: =Info!A35 -> pbb:part_size | K2: dblink:species
A3: ='Specimen input form'!E3 -> Isolate 1 | B3: ='Specimen input form'!B32 -> Specimen name 1 | C3: ='Specimen input form'!$E$6 -> 0 | D3: =VLOOKUP($C3,'Target list'!$A$2:$E$131,5,0) -> #N/A | E3: ='Specimen input form'!E9 -> 0 | F3: ='Specimen input form'!E32 -> 0 | G3: ='Specimen input form'!E33 -> 0 | H3: ='Specimen input form'!E34 -> 0 | K3: ebpnor.species:000000130
A4: ='Specimen input form'!E3 -> Isolate 1 | B4: ='Specimen input form'!B36 -> Specimen name 2 | C4: ='Specimen input form'!$E$6 -> 0 | D4: =VLOOKUP($C4,'Target list'!$A$2:$E$131,5,0) -> #N/A | E4: ='Specimen input form'!E9 -> 0 | F4: ='Specimen input form'!E36 -> 0 | G4: ='Specimen input form'!E37 -> 0 | H4: ='Specimen input form'!E38 -> 0 | K4: ebpnor.species:000000130
A5: ='Specimen input form'!E3 -> Isolate 1 | B5: ='Specimen input form'!B40 -> Specimen name 3 | C5: ='Specimen input form'!$E$6 -> 0 | D5: =VLOOKUP($C5,'Target list'!$A$2:$E$131,5,0) -> #N/A | E5: ='Specimen input form'!E9 -> 0 | F5: ='Specimen input form'!E40 -> 0 | G5: ='Specimen input form'!E41 -> 0 | H5: ='Specimen input form'!E42 -> 0 | K5: ebpnor.species:000000130
A6: ='Specimen input form'!E3 -> Isolate 1 | B6: ='Specimen input form'!B44 -> Specimen name 4 | C6: ='Specimen input form'!$E$6 -> 0 | D6: =VLOOKUP($C6,'Target list'!$A$2:$E$131,5,0) -> #N/A | E6: ='Specimen input form'!E9 -> 0 | F6: ='Specimen input form'!E44 -> 0 | G6: ='Specimen input form'!E45 -> 0 | H6: ='Specimen input form'!E46 -> 0
A7: ='Specimen input form'!E3 -> Isolate 1 | B7: ='Specimen input form'!B48 -> Specimen name 5 | C7: ='Specimen input form'!$E$6 -> 0 | D7: =VLOOKUP($C7,'Target list'!$A$2:$E$131,5,0) -> #N/A | E7: ='Specimen input form'!E9 -> 0 | F7: ='Specimen input form'!E48 -> 0 | G7: ='Specimen input form'!E49 -> 0 | H7: ='Specimen input form'!E50 -> 0
A8: ='Specimen input form'!G3 -> Isolate 2 | B8: ='Specimen input form'!B32 -> Specimen name 1 | C8: ='Specimen input form'!$G$6 -> 0 | D8: =VLOOKUP($C8,'Target list'!$A$2:$E$131,5,0) -> #N/A | E8: ='Specimen input form'!G9 -> 0 | F8: ='Specimen input form'!G32 -> 0 | G8: ='Specimen input form'!G33 -> 0 | H8: ='Specimen input form'!G34 -> 0
A9: =$A$8 -> Isolate 2 | B9: ='Specimen input form'!B36 -> Specimen name 2 | C9: ='Specimen input form'!$G$6 -> 0 | D9: =VLOOKUP($C9,'Target list'!$A$2:$E$131,5,0) -> #N/A | E9: ='Specimen input form'!G9 -> 0 | F9: ='Specimen input form'!G36 -> 0 | G9: ='Specimen input form'!G37 -> 0 | H9: ='Specimen input form'!G38 -> 0
A10: =$A$8 -> Isolate 2 | B10: ='Specimen input form'!B40 -> Specimen name 3 | C10: ='Specimen input form'!$G$6 -> 0 | D10: =VLOOKUP($C10,'Target list'!$A$2:$E$131,5,0) -> #N/A | E10: ='Specimen input form'!G9 -> 0 | F10: ='Specimen input form'!G40 -> 0 | G10: ='Specimen input form'!G41 -> 0 | H10: ='Specimen input form'!G42 -> 0
A11: =$A$8 -> Isolate 2 | B11: ='Specimen input form'!B44 -> Specimen name 4 | C11: ='Specimen input form'!$G$6 -> 0 | D11: =VLOOKUP($C11,'Target list'!$A$2:$E$131,5,0) -> #N/A | E11: ='Specimen input form'!G9 -> 0 | F11: ='Specimen input form'!G44 -> 0 | G11: ='Specimen input form'!G45 -> 0 | H11: ='Specimen input form'!G46 -> 0
A12: =$A$8 -> Isolate 2 | B12: ='Specimen input form'!B48 -> Specimen name 5 | C12: ='Specimen input form'!$G$6 -> 0 | D12: =VLOOKUP($C12,'Target list'!$A$2:$E$131,5,0) -> #N/A | E12: ='Specimen input form'!G9 -> 0 | F12: ='Specimen input form'!G48 -> 0 | G12: ='Specimen input form'!G49 -> 0 | H12: ='Specimen input form'!G50 -> 0
A13: ='Specimen input form'!I3 -> Isolate 3 | B13: ='Specimen input form'!B32 -> Specimen name 1 | C13: ='Specimen input form'!$I$6 -> 0 | D13: =VLOOKUP($C13,'Target list'!$A$2:$E$131,5,0) -> #N/A | E13: ='Specimen input form'!I9 -> 0 | F13: ='Specimen input form'!I32 -> 0 | G13: ='Specimen input form'!I33 -> 0 | H13: ='Specimen input form'!I34 -> 0
A14: =$A$13 -> Isolate 3 | B14: ='Specimen input form'!B36 -> Specimen name 2 | C14: ='Specimen input form'!$I$6 -> 0 | D14: =VLOOKUP($C14,'Target list'!$A$2:$E$131,5,0) -> #N/A | E14: ='Specimen input form'!I9 -> 0 | F14: ='Specimen input form'!I36 -> 0 | G14: ='Specimen input form'!I37 -> 0 | H14: ='Specimen input form'!I38 -> 0
A15: =$A$13 -> Isolate 3 | B15: ='Specimen input form'!B40 -> Specimen name 3 | C15: ='Specimen input form'!$I$6 -> 0 | D15: =VLOOKUP($C15,'Target list'!$A$2:$E$131,5,0) -> #N/A | E15: ='Specimen input form'!I9 -> 0 | F15: ='Specimen input form'!I40 -> 0 | G15: ='Specimen input form'!I41 -> 0 | H15: ='Specimen input form'!I42 -> 0
A16: =$A$13 -> Isolate 3 | B16: ='Specimen input form'!B44 -> Specimen name 4 | C16: ='Specimen input form'!$I$6 -> 0 | D16: =VLOOKUP($C16,'Target list'!$A$2:$E$131,5,0) -> #N/A | E16: ='Specimen input form'!I9 -> 0 | F16: ='Specimen input form'!I44 -> 0 | G16: ='Specimen input form'!I45 -> 0 | H16: ='Specimen input form'!I46 -> 0
A17: =$A$13 -> Isolate 3 | B17: ='Specimen input form'!B48 -> Specimen name 5 | C17: ='Specimen input form'!$I$6 -> 0 | D17: =VLOOKUP($C17,'Target list'!$A$2:$E$131,5,0) -> #N/A | E17: ='Specimen input form'!I9 -> 0 | F17: ='Specimen input form'!I48 -> 0 | G17: ='Specimen input form'!I49 -> 0 | H17: ='Specimen input form'!I50 -> 0
