Workbook

Sheet Sampling Commitment Scheme
B1: EBP-Nor Sampling Commitment Scheme, v.2.3 (2023-03-24)
B2: Please fill in all the fields and send to
B3: ebpnor-sampling@ibv.uio.no
B4: by 2023-10-31
B6: IMPORTANT: | C6: ALL FIELDS need to be filled in!
C7: Before suggesting a species, please check with GoaT (Genomes on a Tree) whether the species is already being sequenced:
D8: https://goat.genomehubs.org/search
C9: Please look up the NCBI taxonomic identifier:
D10: https://www.ncbi.nlm.nih.gov/Taxonomy/Browser/wwwtax.cgi
C11: Please make sure that the taxon name is correctly spelled.
C12: If relevant, indicate also infraspecific taxon (subspecies/variety).
C13: If no NCBI taxon ID exists, please indicate with "na".
C14: Sample providers who will not perform DNA isolation / Hi-C do not need to fill in this info (green cells).
A16: N | B16: Genus | C16: Species | D16: Infraspecies (if relevant) | E16: Family | F16: Phylum | G16: Norwegian species name (if available) | H16: NCBI species identifier | I16: NCBI infraspecies identifier (if relevant) | J16: Estimated genome size (haploid) | K16: Sampling month (YYYY-MM) | L16: DNA extraction completed | M16: Hi-C tissue sample completed | N16: Sample delivery to EBP-Nor | O16: Sample embassador | P16: Sample embassador email | Q16: Comments
A17: 1
A18: 2
A19: 3
A20: 4
A21: 5
A22: 6
A23: 7
A24: 8
A25: 9
A26: 10
A27: 11
A28: 12
... A31: 15

Sheet for internal use
A1: EBP-Nor ID | B1: ToL_ID | C1: Genus | D1: species | E1: infraspecies | F1: norsk navn | G1: #NCBI_taxon_id | H1: family | I1: phylum | J1: taxon_group | K1: Estimated genome size (n) | M1: synonym | N1: sample embassador, affiliation | O1: sample embassador | P1: sample embassador, email | Q1: note | S1: Planned sampled (date) | T1: Include in EBP-Nor | U1: Sampled | V1: Sampling schema received? | W1: Voucher? | X1: Images? | Y1: Sample delivered to NSC (date) | Z1: Sample delivered to NMBU (date) | AA1: Samples for DNA isolation: location | AB1: Samples for DNA isolation: Tube labels | AC1: Samples for DNA isolation: Number of tubes | AD1: Samples for Hi-C: location | AE1: Samples for Hi-C: Tube labels | AF1: Samples for Hi-C: Number of tubes | AG1: Notes | AI1: DNA isolated | AJ1: Sample for DNA sequencing. Location (freezer), container, and tube labels | AK1: Person responsible (e-mail) | AM1: Sequencing completed / successful | AN1: Sequence data output | AO1: Person responsible (e-mail) | AQ1: Hi-C completed / successful | AR1: Hi-C output / files | AS1: Person responsible (e-mail)
C2: ='Sampling Commitment Scheme'!B17 -> 0 | D2: ='Sampling Commitment Scheme'!C17 -> 0 | E2: ='Sampling Commitment Scheme'!D17 -> 0 | F2: ='Sampling Commitment Scheme'!G17 -> 0 | G2: ='Sampling Commitment Scheme'!H17 -> 0 | H2: ='Sampling Commitment Scheme'!E17 -> 0 | I2: ='Sampling Commitment Scheme'!F17 -> 0 | K2: ='Sampling Commitment Scheme'!J17 -> 0 | M2: =E2 -> 0 | O2: ='Sampling Commitment Scheme'!O17 -> 0 | P2: ='Sampling Commitment Scheme'!P17 -> 0 | Q2: ='Sampling Commitment Scheme'!Q17 -> 0 | S2: ='Sampling Commitment Scheme'!K17 -> 0 | Y2: ='Sampling Commitment Scheme'!N17 -> 0 | AI2: ='Sampling Commitment Scheme'!L17 -> 0 | AQ2: ='Sampling Commitment Scheme'!M17 -> 0
C3: ='Sampling Commitment Scheme'!B18 -> 0 | D3: ='Sampling Commitment Scheme'!C18 -> 0 | E3: ='Sampling Commitment Scheme'!D18 -> 0 | F3: ='Sampling Commitment Scheme'!G18 -> 0 | G3: ='Sampling Commitment Scheme'!H18 -> 0 | H3: ='Sampling Commitment Scheme'!E18 -> 0 | I3: ='Sampling Commitment Scheme'!F18 -> 0 | K3: ='Sampling Commitment Scheme'!J18 -> 0 | M3: =E3 -> 0 | O3: ='Sampling Commitment Scheme'!O18 -> 0 | P3: ='Sampling Commitment Scheme'!P18 -> 0 | Q3: ='Sampling Commitment Scheme'!Q18 -> 0 | S3: ='Sampling Commitment Scheme'!K18 -> 0 | Y3: ='Sampling Commitment Scheme'!N18 -> 0 | AI3: ='Sampling Commitment Scheme'!L18 -> 0 | AQ3: ='Sampling Commitment Scheme'!M18 -> 0
C4: ='Sampling Commitment Scheme'!B19 -> 0 | D4: ='Sampling Commitment Scheme'!C19 -> 0 | E4: ='Sampling Commitment Scheme'!D19 -> 0 | F4: ='Sampling Commitment Scheme'!G19 -> 0 | G4: ='Sampling Commitment Scheme'!H19 -> 0 | H4: ='Sampling Commitment Scheme'!E19 -> 0 | I4: ='Sampling Commitment Scheme'!F19 -> 0 | K4: ='Sampling Commitment Scheme'!J19 -> 0 | M4: =E4 -> 0 | O4: ='Sampling Commitment Scheme'!O19 -> 0 | P4: ='Sampling Commitment Scheme'!P19 -> 0 | Q4: ='Sampling Commitment Scheme'!Q19 -> 0 | S4: ='Sampling Commitment Scheme'!K19 -> 0 | Y4: ='Sampling Commitment Scheme'!N19 -> 0 | AI4: ='Sampling Commitment Scheme'!L19 -> 0 | AQ4: ='Sampling Commitment Scheme'!M19 -> 0
C5: ='Sampling Commitment Scheme'!B20 -> 0 | D5: ='Sampling Commitment Scheme'!C20 -> 0 | E5: ='Sampling Commitment Scheme'!D20 -> 0 | F5: ='Sampling Commitment Scheme'!G20 -> 0 | G5: ='Sampling Commitment Scheme'!H20 -> 0 | H5: ='Sampling Commitment Scheme'!E20 -> 0 | I5: ='Sampling Commitment Scheme'!F20 -> 0 | K5: ='Sampling Commitment Scheme'!J20 -> 0 | M5: =E5 -> 0 | O5: ='Sampling Commitment Scheme'!O20 -> 0 | P5: ='Sampling Commitment Scheme'!P20 -> 0 | Q5: ='Sampling Commitment Scheme'!Q20 -> 0 | S5: ='Sampling Commitment Scheme'!K20 -> 0 | Y5: ='Sampling Commitment Scheme'!N20 -> 0 | AI5: ='Sampling Commitment Scheme'!L20 -> 0 | AQ5: ='Sampling Commitment Scheme'!M20 -> 0
C6: ='Sampling Commitment Scheme'!B21 -> 0 | D6: ='Sampling Commitment Scheme'!C21 -> 0 | E6: ='Sampling Commitment Scheme'!D21 -> 0 | F6: ='Sampling Commitment Scheme'!G21 -> 0 | G6: ='Sampling Commitment Scheme'!H21 -> 0 | H6: ='Sampling Commitment Scheme'!E21 -> 0 | I6: ='Sampling Commitment Scheme'!F21 -> 0 | K6: ='Sampling Commitment Scheme'!J21 -> 0 | M6: =E6 -> 0 | O6: ='Sampling Commitment Scheme'!O21 -> 0 | P6: ='Sampling Commitment Scheme'!P21 -> 0 | Q6: ='Sampling Commitment Scheme'!Q21 -> 0 | S6: ='Sampling Commitment Scheme'!K21 -> 0 | Y6: ='Sampling Commitment Scheme'!N21 -> 0 | AI6: ='Sampling Commitment Scheme'!L21 -> 0 | AQ6: ='Sampling Commitment Scheme'!M21 -> 0
C7: ='Sampling Commitment Scheme'!B22 -> 0 | D7: ='Sampling Commitment Scheme'!C22 -> 0 | E7: ='Sampling Commitment Scheme'!D22 -> 0 | F7: ='Sampling Commitment Scheme'!G22 -> 0 | G7: ='Sampling Commitment Scheme'!H22 -> 0 | H7: ='Sampling Commitment Scheme'!E22 -> 0 | I7: ='Sampling Commitment Scheme'!F22 -> 0 | K7: ='Sampling Commitment Scheme'!J22 -> 0 | M7: =E7 -> 0 | O7: ='Sampling Commitment Scheme'!O22 -> 0 | P7: ='Sampling Commitment Scheme'!P22 -> 0 | Q7: ='Sampling Commitment Scheme'!Q22 -> 0 | S7: ='Sampling Commitment Scheme'!K22 -> 0 | Y7: ='Sampling Commitment Scheme'!N22 -> 0 | AI7: ='Sampling Commitment Scheme'!L22 -> 0 | AQ7: ='Sampling Commitment Scheme'!M22 -> 0
C8: ='Sampling Commitment Scheme'!B23 -> 0 | D8: ='Sampling Commitment Scheme'!C23 -> 0 | E8: ='Sampling Commitment Scheme'!D23 -> 0 | F8: ='Sampling Commitment Scheme'!G23 -> 0 | G8: ='Sampling Commitment Scheme'!H23 -> 0 | H8: ='Sampling Commitment Scheme'!E23 -> 0 | I8: ='Sampling Commitment Scheme'!F23 -> 0 | K8: ='Sampling Commitment Scheme'!J23 -> 0 | M8: =E8 -> 0 | O8: ='Sampling Commitment Scheme'!O23 -> 0 | P8: ='Sampling Commitment Scheme'!P23 -> 0 | Q8: ='Sampling Commitment Scheme'!Q23 -> 0 | S8: ='Sampling Commitment Scheme'!K23 -> 0 | Y8: ='Sampling Commitment Scheme'!N23 -> 0 | AI8: ='Sampling Commitment Scheme'!L23 -> 0 | AQ8: ='Sampling Commitment Scheme'!M23 -> 0
C9: ='Sampling Commitment Scheme'!B24 -> 0 | D9: ='Sampling Commitment Scheme'!C24 -> 0 | E9: ='Sampling Commitment Scheme'!D24 -> 0 | F9: ='Sampling Commitment Scheme'!G24 -> 0 | G9: ='Sampling Commitment Scheme'!H24 -> 0 | H9: ='Sampling Commitment Scheme'!E24 -> 0 | I9: ='Sampling Commitment Scheme'!F24 -> 0 | K9: ='Sampling Commitment Scheme'!J24 -> 0 | M9: =E9 -> 0 | O9: ='Sampling Commitment Scheme'!O24 -> 0 | P9: ='Sampling Commitment Scheme'!P24 -> 0 | Q9: ='Sampling Commitment Scheme'!Q24 -> 0 | S9: ='Sampling Commitment Scheme'!K24 -> 0 | Y9: ='Sampling Commitment Scheme'!N24 -> 0 | AI9: ='Sampling Commitment Scheme'!L24 -> 0 | AQ9: ='Sampling Commitment Scheme'!M24 -> 0
C10: ='Sampling Commitment Scheme'!B25 -> 0 | D10: ='Sampling Commitment Scheme'!C25 -> 0 | E10: ='Sampling Commitment Scheme'!D25 -> 0 | F10: ='Sampling Commitment Scheme'!G25 -> 0 | G10: ='Sampling Commitment Scheme'!H25 -> 0 | H10: ='Sampling Commitment Scheme'!E25 -> 0 | I10: ='Sampling Commitment Scheme'!F25 -> 0 | K10: ='Sampling Commitment Scheme'!J25 -> 0 | M10: =E10 -> 0 | O10: ='Sampling Commitment Scheme'!O25 -> 0 | P10: ='Sampling Commitment Scheme'!P25 -> 0 | Q10: ='Sampling Commitment Scheme'!Q25 -> 0 | S10: ='Sampling Commitment Scheme'!K25 -> 0 | Y10: ='Sampling Commitment Scheme'!N25 -> 0 | AI10: ='Sampling Commitment Scheme'!L25 -> 0 | AQ10: ='Sampling Commitment Scheme'!M25 -> 0
C11: ='Sampling Commitment Scheme'!B26 -> 0 | D11: ='Sampling Commitment Scheme'!C26 -> 0 | E11: ='Sampling Commitment Scheme'!D26 -> 0 | F11: ='Sampling Commitment Scheme'!G26 -> 0 | G11: ='Sampling Commitment Scheme'!H26 -> 0 | H11: ='Sampling Commitment Scheme'!E26 -> 0 | I11: ='Sampling Commitment Scheme'!F26 -> 0 | K11: ='Sampling Commitment Scheme'!J26 -> 0 | M11: =E11 -> 0 | O11: ='Sampling Commitment Scheme'!O26 -> 0 | P11: ='Sampling Commitment Scheme'!P26 -> 0 | Q11: ='Sampling Commitment Scheme'!Q26 -> 0 | S11: ='Sampling Commitment Scheme'!K26 -> 0 | Y11: ='Sampling Commitment Scheme'!N26 -> 0 | AI11: ='Sampling Commitment Scheme'!L26 -> 0 | AQ11: ='Sampling Commitment Scheme'!M26 -> 0
C12: ='Sampling Commitment Scheme'!B27 -> 0 | D12: ='Sampling Commitment Scheme'!C27 -> 0 | E12: ='Sampling Commitment Scheme'!D27 -> 0 | F12: ='Sampling Commitment Scheme'!G27 -> 0 | G12: ='Sampling Commitment Scheme'!H27 -> 0 | H12: ='Sampling Commitment Scheme'!E27 -> 0 | I12: ='Sampling Commitment Scheme'!F27 -> 0 | K12: ='Sampling Commitment Scheme'!J27 -> 0 | M12: =E12 -> 0 | O12: ='Sampling Commitment Scheme'!O27 -> 0 | P12: ='Sampling Commitment Scheme'!P27 -> 0 | Q12: ='Sampling Commitment Scheme'!Q27 -> 0 | S12: ='Sampling Commitment Scheme'!K27 -> 0 | Y12: ='Sampling Commitment Scheme'!N27 -> 0 | AI12: ='Sampling Commitment Scheme'!L27 -> 0 | AQ12: ='Sampling Commitment Scheme'!M27 -> 0
C13: ='Sampling Commitment Scheme'!B28 -> 0 | D13: ='Sampling Commitment Scheme'!C28 -> 0 | E13: ='Sampling Commitment Scheme'!D28 -> 0 | F13: ='Sampling Commitment Scheme'!G28 -> 0 | G13: ='Sampling Commitment Scheme'!H28 -> 0 | H13: ='Sampling Commitment Scheme'!E28 -> 0 | I13: ='Sampling Commitment Scheme'!F28 -> 0 | K13: ='Sampling Commitment Scheme'!J28 -> 0 | M13: =E13 -> 0 | O13: ='Sampling Commitment Scheme'!O28 -> 0 | P13: ='Sampling Commitment Scheme'!P28 -> 0 | Q13: ='Sampling Commitment Scheme'!Q28 -> 0 | S13: ='Sampling Commitment Scheme'!K28 -> 0 | Y13: ='Sampling Commitment Scheme'!N28 -> 0 | AI13: ='Sampling Commitment Scheme'!L28 -> 0 | AQ13: ='Sampling Commitment Scheme'!M28 -> 0
... C16: ='Sampling Commitment Scheme'!B31 -> 0 | D16: ='Sampling Commitment Scheme'!C31 -> 0 | E16: ='Sampling Commitment Scheme'!D31 -> 0 | F16: ='Sampling Commitment Scheme'!G31 -> 0 | G16: ='Sampling Commitment Scheme'!H31 -> 0 | H16: ='Sampling Commitment Scheme'!E31 -> 0 | I16: ='Sampling Commitment Scheme'!F31 -> 0 | K16: ='Sampling Commitment Scheme'!J31 -> 0 | M16: =E16 -> 0 | O16: ='Sampling Commitment Scheme'!O31 -> 0 | P16: ='Sampling Commitment Scheme'!P31 -> 0 | Q16: ='Sampling Commitment Scheme'!Q31 -> 0 | S16: ='Sampling Commitment Scheme'!K31 -> 0 | Y16: ='Sampling Commitment Scheme'!N31 -> 0 | AI16: ='Sampling Commitment Scheme'!L31 -> 0 | AQ16: ='Sampling Commitment Scheme'!M31 -> 0
